BEGIN:VCALENDAR
VERSION:2.0
PRODID:-//Seasearch Ireland - ECPv6.15.20//NONSGML v1.0//EN
CALSCALE:GREGORIAN
METHOD:PUBLISH
X-WR-CALNAME:Seasearch Ireland
X-ORIGINAL-URL:https://seasearchireland.ie
X-WR-CALDESC:Events for Seasearch Ireland
REFRESH-INTERVAL;VALUE=DURATION:PT1H
X-Robots-Tag:noindex
X-PUBLISHED-TTL:PT1H
BEGIN:VTIMEZONE
TZID:Europe/Dublin
BEGIN:STANDARD
TZOFFSETFROM:+0000
TZOFFSETTO:+0100
TZNAME:IST
DTSTART:20250330T010000
END:STANDARD
BEGIN:DAYLIGHT
TZOFFSETFROM:+0100
TZOFFSETTO:+0000
TZNAME:GMT
DTSTART:20251026T010000
END:DAYLIGHT
BEGIN:STANDARD
TZOFFSETFROM:+0000
TZOFFSETTO:+0100
TZNAME:IST
DTSTART:20260329T010000
END:STANDARD
BEGIN:DAYLIGHT
TZOFFSETFROM:+0100
TZOFFSETTO:+0000
TZNAME:GMT
DTSTART:20261025T010000
END:DAYLIGHT
BEGIN:STANDARD
TZOFFSETFROM:+0000
TZOFFSETTO:+0100
TZNAME:IST
DTSTART:20270328T010000
END:STANDARD
BEGIN:DAYLIGHT
TZOFFSETFROM:+0100
TZOFFSETTO:+0000
TZNAME:GMT
DTSTART:20271031T010000
END:DAYLIGHT
END:VTIMEZONE
BEGIN:VEVENT
DTSTART;VALUE=DATE:20260530
DTEND;VALUE=DATE:20260601
DTSTAMP:20260422T124401
CREATED:20260218T195153Z
LAST-MODIFIED:20260218T195153Z
UID:1929-1780099200-1780271999@seasearchireland.ie
SUMMARY:Seasearch Observer course - Waterville\, Kerry 2026
DESCRIPTION:In person Seasearch course in the lovely Waterville with the team from Sea Synergy. \nCourse content: \nFind out about the Seasearch project\nGain a basic grounding in marine recording\nLearn how to recognise and classify marine habitats\nLearn how to complete the Seasearch Observation Form by watching a ‘video dive’\nComplete two dives (or snorkels) with a Seasearch tutor \nThis is an introductory course aimed at giving divers and snorkellers new to the project and new to marine recording a basic grounding. The course will consist of a one day classroom session and one day diving. \nAt the end of the course\, you’ll get a Seasearch Qualification booklet. Once you have completed five forms for real (two on dives with a tutor available to help) you will be a qualified Seasearch Observer and able to take part in Seasearch dives or snorkels. \nCost €70 \nYou can register by emailing Seasearchireland@gmail.com.
URL:https://seasearchireland.ie/event/seasearch-observer-course-waterville-kerry-2026/
LOCATION:Waterville\, Co Kerry\, Waterville\, Kerry\, Ireland
ORGANIZER;CN="Seasearch Ireland":MAILTO:seasearchireland@gmail.com
END:VEVENT
END:VCALENDAR